BEGIN:VCALENDAR
VERSION:2.0
PRODID:-//Shiva Vishnu Temple of South Florida - ECPv4.6//NONSGML v1.0//EN
CALSCALE:GREGORIAN
METHOD:PUBLISH
X-WR-CALNAME:Shiva Vishnu Temple of South Florida
X-ORIGINAL-URL:https://shivavishnu.org
X-WR-CALDESC:Events for Shiva Vishnu Temple of South Florida
BEGIN:VEVENT
DTSTART;TZID=America/New_York:20260130T190000
DTEND;TZID=America/New_York:20260130T190000
DTSTAMP:20260423T183039
CREATED:20251227T161034Z
LAST-MODIFIED:20251227T161034Z
UID:36778-1769799600-1769799600@shivavishnu.org
SUMMARY:Special pooja to Lakshmi
DESCRIPTION:
URL:https://shivavishnu.org/event/special-pooja-to-lakshmi-166/
END:VEVENT
END:VCALENDAR