BEGIN:VCALENDAR
VERSION:2.0
PRODID:-//Shiva Vishnu Temple of South Florida - ECPv4.6//NONSGML v1.0//EN
CALSCALE:GREGORIAN
METHOD:PUBLISH
X-WR-CALNAME:Shiva Vishnu Temple of South Florida
X-ORIGINAL-URL:https://shivavishnu.org
X-WR-CALDESC:Events for Shiva Vishnu Temple of South Florida
BEGIN:VEVENT
DTSTART;TZID=America/New_York:20260213T190000
DTEND;TZID=America/New_York:20260213T190000
DTSTAMP:20260424T203443
CREATED:20251227T163417Z
LAST-MODIFIED:20251227T163417Z
UID:36820-1771009200-1771009200@shivavishnu.org
SUMMARY:Special pooja to Lakshmi
DESCRIPTION:Poorvasadha \n
URL:https://shivavishnu.org/event/special-pooja-to-lakshmi-168/
END:VEVENT
END:VCALENDAR