BEGIN:VCALENDAR
VERSION:2.0
PRODID:-//Shiva Vishnu Temple of South Florida - ECPv4.6//NONSGML v1.0//EN
CALSCALE:GREGORIAN
METHOD:PUBLISH
X-WR-CALNAME:Shiva Vishnu Temple of South Florida
X-ORIGINAL-URL:https://shivavishnu.org
X-WR-CALDESC:Events for Shiva Vishnu Temple of South Florida
BEGIN:VEVENT
DTSTART;TZID=America/New_York:20260227T190000
DTEND;TZID=America/New_York:20260227T190000
DTSTAMP:20260423T153649
CREATED:20251227T163439Z
LAST-MODIFIED:20251227T163439Z
UID:36841-1772218800-1772218800@shivavishnu.org
SUMMARY:Special pooja to Lakshmi
DESCRIPTION:Punarvasu \n
URL:https://shivavishnu.org/event/special-pooja-to-lakshmi-170/
END:VEVENT
END:VCALENDAR