BEGIN:VCALENDAR
VERSION:2.0
PRODID:-//Shiva Vishnu Temple of South Florida - ECPv4.6//NONSGML v1.0//EN
CALSCALE:GREGORIAN
METHOD:PUBLISH
X-WR-CALNAME:Shiva Vishnu Temple of South Florida
X-ORIGINAL-URL:https://shivavishnu.org
X-WR-CALDESC:Events for Shiva Vishnu Temple of South Florida
BEGIN:VEVENT
DTSTART;TZID=America/New_York:20260424T190000
DTEND;TZID=America/New_York:20260424T190000
DTSTAMP:20260421T110010
CREATED:20260402T213201Z
LAST-MODIFIED:20260402T213201Z
UID:37035-1777057200-1777057200@shivavishnu.org
SUMMARY:Special pooja to Lakshmi
DESCRIPTION:Pushya \n
URL:https://shivavishnu.org/event/special-pooja-to-lakshmi-175/
END:VEVENT
END:VCALENDAR