BEGIN:VCALENDAR
VERSION:2.0
PRODID:-//Shiva Vishnu Temple of South Florida - ECPv4.6//NONSGML v1.0//EN
CALSCALE:GREGORIAN
METHOD:PUBLISH
X-WR-CALNAME:Shiva Vishnu Temple of South Florida
X-ORIGINAL-URL:https://shivavishnu.org
X-WR-CALDESC:Events for Shiva Vishnu Temple of South Florida
BEGIN:VEVENT
DTSTART;TZID=America/New_York:20260522T190000
DTEND;TZID=America/New_York:20260522T190000
DTSTAMP:20260423T140605
CREATED:20260403T224116Z
LAST-MODIFIED:20260403T224116Z
UID:37088-1779476400-1779476400@shivavishnu.org
SUMMARY:Special pooja to Lakshmi
DESCRIPTION:Aslesha \n
URL:https://shivavishnu.org/event/special-pooja-to-lakshmi-179/
END:VEVENT
END:VCALENDAR