BEGIN:VCALENDAR
VERSION:2.0
PRODID:-//Shiva Vishnu Temple of South Florida - ECPv4.6//NONSGML v1.0//EN
CALSCALE:GREGORIAN
METHOD:PUBLISH
X-WR-CALNAME:Shiva Vishnu Temple of South Florida
X-ORIGINAL-URL:https://shivavishnu.org
X-WR-CALDESC:Events for Shiva Vishnu Temple of South Florida
BEGIN:VEVENT
DTSTART;TZID=America/New_York:20251223T100000
DTEND;TZID=America/New_York:20251223T100000
DTSTAMP:20260423T183728
CREATED:20251001T004112Z
LAST-MODIFIED:20251001T004112Z
UID:36688-1766484000-1766484000@shivavishnu.org
SUMMARY:Special Pooja to Venkateshwara
DESCRIPTION:Sravana/Sankatahara Chathurthi \n
URL:https://shivavishnu.org/event/special-pooja-to-venkateshwara-40/
END:VEVENT
END:VCALENDAR