BEGIN:VCALENDAR
VERSION:2.0
PRODID:-//Shiva Vishnu Temple of South Florida - ECPv4.6//NONSGML v1.0//EN
CALSCALE:GREGORIAN
METHOD:PUBLISH
X-WR-CALNAME:Shiva Vishnu Temple of South Florida
X-ORIGINAL-URL:https://shivavishnu.org
X-WR-CALDESC:Events for Shiva Vishnu Temple of South Florida
BEGIN:VEVENT
DTSTART;TZID=America/New_York:20260216T100000
DTEND;TZID=America/New_York:20260216T100000
DTSTAMP:20260424T101845
CREATED:20251227T163424Z
LAST-MODIFIED:20251227T163424Z
UID:36826-1771236000-1771236000@shivavishnu.org
SUMMARY:Special pooja to Venkateshwara
DESCRIPTION:Sravanam \n
URL:https://shivavishnu.org/event/special-pooja-to-venkateshwara-42/
END:VEVENT
END:VCALENDAR