BEGIN:VCALENDAR
VERSION:2.0
PRODID:-//Shiva Vishnu Temple of South Florida - ECPv4.6//NONSGML v1.0//EN
CALSCALE:GREGORIAN
METHOD:PUBLISH
X-WR-CALNAME:Shiva Vishnu Temple of South Florida
X-ORIGINAL-URL:https://shivavishnu.org
X-WR-CALDESC:Events for Shiva Vishnu Temple of South Florida
BEGIN:VEVENT
DTSTART;TZID=America/New_York:20260327T180000
DTEND;TZID=America/New_York:20260327T180000
DTSTAMP:20260421T213244
CREATED:20251227T214504Z
LAST-MODIFIED:20251227T215609Z
UID:36902-1774634400-1774634400@shivavishnu.org
SUMMARY:Sri Rama Kalyanotsavam
DESCRIPTION:Sri Rama Kalyanotsavam\n
URL:https://shivavishnu.org/event/sri-rama-kalyanotsavam-3/
END:VEVENT
END:VCALENDAR