BEGIN:VCALENDAR
VERSION:2.0
PRODID:-//Shiva Vishnu Temple of South Florida - ECPv4.6//NONSGML v1.0//EN
CALSCALE:GREGORIAN
METHOD:PUBLISH
X-WR-CALNAME:Shiva Vishnu Temple of South Florida
X-ORIGINAL-URL:https://shivavishnu.org
X-WR-CALDESC:Events for Shiva Vishnu Temple of South Florida
BEGIN:VEVENT
DTSTART;TZID=America/New_York:20260107T100000
DTEND;TZID=America/New_York:20260107T100000
DTSTAMP:20260423T183438
CREATED:20251227T161012Z
LAST-MODIFIED:20251227T161938Z
UID:36746-1767780000-1767780000@shivavishnu.org
SUMMARY:Bagula Panchami
DESCRIPTION:Bagula Panchami\nThirumanjanam to Andal\n
URL:https://shivavishnu.org/event/thirumanjanam-to-andal-144/
END:VEVENT
END:VCALENDAR