BEGIN:VCALENDAR
VERSION:2.0
PRODID:-//Shiva Vishnu Temple of South Florida - ECPv4.6//NONSGML v1.0//EN
CALSCALE:GREGORIAN
METHOD:PUBLISH
X-WR-CALNAME:Shiva Vishnu Temple of South Florida
X-ORIGINAL-URL:https://shivavishnu.org
X-WR-CALDESC:Events for Shiva Vishnu Temple of South Florida
BEGIN:VEVENT
DTSTART;TZID=America/New_York:20250805T100000
DTEND;TZID=America/New_York:20250805T100000
DTSTAMP:20260425T034135
CREATED:20250713T232400Z
LAST-MODIFIED:20250713T232400Z
UID:36353-1754388000-1754388000@shivavishnu.org
SUMMARY:Thirumanjanam to Anjaneya
DESCRIPTION:Moola \n
URL:https://shivavishnu.org/event/thirumanjanam-to-anjaneya-128/
END:VEVENT
END:VCALENDAR