BEGIN:VCALENDAR
VERSION:2.0
PRODID:-//Shiva Vishnu Temple of South Florida - ECPv4.6//NONSGML v1.0//EN
CALSCALE:GREGORIAN
METHOD:PUBLISH
X-WR-CALNAME:Shiva Vishnu Temple of South Florida
X-ORIGINAL-URL:https://shivavishnu.org
X-WR-CALDESC:Events for Shiva Vishnu Temple of South Florida
BEGIN:VEVENT
DTSTART;TZID=America/New_York:20251220T093000
DTEND;TZID=America/New_York:20251220T093000
DTSTAMP:20260423T183807
CREATED:20251001T004108Z
LAST-MODIFIED:20251001T004108Z
UID:36683-1766223000-1766223000@shivavishnu.org
SUMMARY:Thirumanjanam to Anjaneya
DESCRIPTION:Moola \n
URL:https://shivavishnu.org/event/thirumanjanam-to-anjaneya-131/
END:VEVENT
END:VCALENDAR