BEGIN:VCALENDAR
VERSION:2.0
PRODID:-//Shiva Vishnu Temple of South Florida - ECPv4.6//NONSGML v1.0//EN
CALSCALE:GREGORIAN
METHOD:PUBLISH
X-WR-CALNAME:Shiva Vishnu Temple of South Florida
X-ORIGINAL-URL:https://shivavishnu.org
X-WR-CALDESC:Events for Shiva Vishnu Temple of South Florida
BEGIN:VEVENT
DTSTART;TZID=America/New_York:20250817T100000
DTEND;TZID=America/New_York:20250817T100000
DTSTAMP:20260423T190528
CREATED:20250713T232410Z
LAST-MODIFIED:20250713T232410Z
UID:36371-1755424800-1755424800@shivavishnu.org
SUMMARY:Thirumanjanam to Krishna
DESCRIPTION:Rohini \n
URL:https://shivavishnu.org/event/thirumanjanam-to-krishna-133/
END:VEVENT
END:VCALENDAR