BEGIN:VCALENDAR
VERSION:2.0
PRODID:-//Shiva Vishnu Temple of South Florida - ECPv4.6//NONSGML v1.0//EN
CALSCALE:GREGORIAN
METHOD:PUBLISH
X-WR-CALNAME:Shiva Vishnu Temple of South Florida
X-ORIGINAL-URL:https://shivavishnu.org
X-WR-CALDESC:Events for Shiva Vishnu Temple of South Florida
BEGIN:VEVENT
DTSTART;TZID=America/New_York:20260224T100000
DTEND;TZID=America/New_York:20260224T100000
DTSTAMP:20260423T182348
CREATED:20251227T163435Z
LAST-MODIFIED:20251227T163435Z
UID:36836-1771927200-1771927200@shivavishnu.org
SUMMARY:Thirumanjanam to Krishna
DESCRIPTION:Rohini \n
URL:https://shivavishnu.org/event/thirumanjanam-to-krishna-137/
END:VEVENT
END:VCALENDAR