BEGIN:VCALENDAR
VERSION:2.0
PRODID:-//Shiva Vishnu Temple of South Florida - ECPv4.6//NONSGML v1.0//EN
CALSCALE:GREGORIAN
METHOD:PUBLISH
X-WR-CALNAME:Shiva Vishnu Temple of South Florida
X-ORIGINAL-URL:https://shivavishnu.org
X-WR-CALDESC:Events for Shiva Vishnu Temple of South Florida
BEGIN:VEVENT
DTSTART;TZID=America/New_York:20260319T093000
DTEND;TZID=America/New_York:20260319T093000
DTSTAMP:20260421T141053
CREATED:20251227T214454Z
LAST-MODIFIED:20251227T214454Z
UID:36884-1773912600-1773912600@shivavishnu.org
SUMMARY:Thirumanjanam to Rama
DESCRIPTION:Masa: Chaitram; Uttarabhadra/ \n
URL:https://shivavishnu.org/event/thirumanjanam-to-rama-158/
END:VEVENT
END:VCALENDAR