BEGIN:VCALENDAR
VERSION:2.0
PRODID:-//Shiva Vishnu Temple of South Florida - ECPv4.6//NONSGML v1.0//EN
CALSCALE:GREGORIAN
METHOD:PUBLISH
X-WR-CALNAME:Shiva Vishnu Temple of South Florida
X-ORIGINAL-URL:https://shivavishnu.org
X-WR-CALDESC:Events for Shiva Vishnu Temple of South Florida
BEGIN:VEVENT
DTSTART;TZID=America/New_York:20260423T093000
DTEND;TZID=America/New_York:20260423T093000
DTSTAMP:20260421T093533
CREATED:20260402T213200Z
LAST-MODIFIED:20260402T213200Z
UID:37034-1776936600-1776936600@shivavishnu.org
SUMMARY:Thirumanjanam to Rama
DESCRIPTION:Punarvasu \n
URL:https://shivavishnu.org/event/thirumanjanam-to-rama-159/
END:VEVENT
END:VCALENDAR