BEGIN:VCALENDAR
VERSION:2.0
PRODID:-//Shiva Vishnu Temple of South Florida - ECPv4.6//NONSGML v1.0//EN
CALSCALE:GREGORIAN
METHOD:PUBLISH
X-WR-CALNAME:Shiva Vishnu Temple of South Florida
X-ORIGINAL-URL:https://shivavishnu.org
X-WR-CALDESC:Events for Shiva Vishnu Temple of South Florida
BEGIN:VEVENT
DTSTART;TZID=America/New_York:20260326T093000
DTEND;TZID=America/New_York:20260326T093000
DTSTAMP:20260422T002653
CREATED:20251227T214503Z
LAST-MODIFIED:20260102T121813Z
UID:36900-1774517400-1774517400@shivavishnu.org
SUMMARY:Sri Rama Navami
DESCRIPTION:Sri Rama Navami\nThirumanjanam to Rama followed by Thirumanjanam to Ramanuja\nDetails\n
URL:https://shivavishnu.org/event/thirumanjanam-to-rama-followed-by-thirumanjanam-to-ramanuja/
END:VEVENT
END:VCALENDAR