BEGIN:VCALENDAR
VERSION:2.0
PRODID:-//Shiva Vishnu Temple of South Florida - ECPv4.6//NONSGML v1.0//EN
CALSCALE:GREGORIAN
METHOD:PUBLISH
X-WR-CALNAME:Shiva Vishnu Temple of South Florida
X-ORIGINAL-URL:https://shivavishnu.org
X-WR-CALDESC:Events for Shiva Vishnu Temple of South Florida
BEGIN:VEVENT
DTSTART;TZID=America/New_York:20251122T093000
DTEND;TZID=America/New_York:20251122T093000
DTSTAMP:20260423T184431
CREATED:20251001T002542Z
LAST-MODIFIED:20251001T002542Z
UID:36624-1763803800-1763803800@shivavishnu.org
SUMMARY:Thirumanjanam to Venkateshwara followed by Vishnu Sahasranama Parayanam
DESCRIPTION:Jyeshta/Moola \n
URL:https://shivavishnu.org/event/thirumanjanam-to-venkateshwara-followed-by-vishnu-sahasranama-parayanam-26/
END:VEVENT
END:VCALENDAR