BEGIN:VCALENDAR
VERSION:2.0
PRODID:-//Shiva Vishnu Temple of South Florida - ECPv4.6//NONSGML v1.0//EN
CALSCALE:GREGORIAN
METHOD:PUBLISH
X-WR-CALNAME:Shiva Vishnu Temple of South Florida
X-ORIGINAL-URL:https://shivavishnu.org
X-WR-CALDESC:Events for Shiva Vishnu Temple of South Florida
BEGIN:VEVENT
DTSTART;TZID=America/New_York:20260124T093000
DTEND;TZID=America/New_York:20260124T093000
DTSTAMP:20260424T213809
CREATED:20251227T161027Z
LAST-MODIFIED:20251227T161027Z
UID:36768-1769247000-1769247000@shivavishnu.org
SUMMARY:Thirumanjanam To Venkateshwara followed by Vishnu Sahasranama Parayanam
DESCRIPTION:Revati \n
URL:https://shivavishnu.org/event/thirumanjanam-to-venkateshwara-followed-by-vishnu-sahasranama-parayanam-30/
END:VEVENT
END:VCALENDAR