BEGIN:VCALENDAR
VERSION:2.0
PRODID:-//Shiva Vishnu Temple of South Florida - ECPv4.6//NONSGML v1.0//EN
CALSCALE:GREGORIAN
METHOD:PUBLISH
X-WR-CALNAME:Shiva Vishnu Temple of South Florida
X-ORIGINAL-URL:https://shivavishnu.org
X-WR-CALDESC:Events for Shiva Vishnu Temple of South Florida
BEGIN:VEVENT
DTSTART;TZID=America/New_York:20260530T093000
DTEND;TZID=America/New_York:20260530T093000
DTSTAMP:20260424T043635
CREATED:20260403T224133Z
LAST-MODIFIED:20260403T224133Z
UID:37100-1780133400-1780133400@shivavishnu.org
SUMMARY:Thirumanjanam to Venkateshwara followed by Vishnu Sahasranama Parayanam
DESCRIPTION:Anuradha/Pournami \n
URL:https://shivavishnu.org/event/thirumanjanam-to-venkateshwara-followed-by-vishnu-sahasranama-parayanam-46/
END:VEVENT
END:VCALENDAR