BEGIN:VCALENDAR
VERSION:2.0
PRODID:-//Shiva Vishnu Temple of South Florida - ECPv4.6//NONSGML v1.0//EN
CALSCALE:GREGORIAN
METHOD:PUBLISH
X-WR-CALNAME:Shiva Vishnu Temple of South Florida
X-ORIGINAL-URL:https://shivavishnu.org
X-WR-CALDESC:Events for Shiva Vishnu Temple of South Florida
BEGIN:VEVENT
DTSTART;TZID=America/New_York:20251001T183000
DTEND;TZID=America/New_York:20251001T183000
DTSTAMP:20260425T005946
CREATED:20250930T214124Z
LAST-MODIFIED:20250930T214415Z
UID:36521-1759343400-1759343400@shivavishnu.org
SUMMARY:Vidyarambham
DESCRIPTION:Vidyarambham/Vijayadasami\n
URL:https://shivavishnu.org/event/vidyarambham-10/
END:VEVENT
END:VCALENDAR