BEGIN:VCALENDAR
VERSION:2.0
PRODID:-//Shiva Vishnu Temple of South Florida - ECPv4.6//NONSGML v1.0//EN
CALSCALE:GREGORIAN
METHOD:PUBLISH
X-WR-CALNAME:Shiva Vishnu Temple of South Florida
X-ORIGINAL-URL:https://shivavishnu.org
X-WR-CALDESC:Events for Shiva Vishnu Temple of South Florida
BEGIN:VEVENT
DTSTART;TZID=America/New_York:20260128T183000
DTEND;TZID=America/New_York:20260128T183000
DTSTAMP:20260423T183109
CREATED:20251227T161031Z
LAST-MODIFIED:20251227T161031Z
UID:36774-1769625000-1769625000@shivavishnu.org
SUMMARY:Vishnu Sahasranama Parayanam
DESCRIPTION:
URL:https://shivavishnu.org/event/vishnu-sahasranama-parayanam-449/
END:VEVENT
END:VCALENDAR