BEGIN:VCALENDAR
VERSION:2.0
PRODID:-//Shiva Vishnu Temple of South Florida - ECPv4.6//NONSGML v1.0//EN
CALSCALE:GREGORIAN
METHOD:PUBLISH
X-WR-CALNAME:Shiva Vishnu Temple of South Florida
X-ORIGINAL-URL:https://shivavishnu.org
X-WR-CALDESC:Events for Shiva Vishnu Temple of South Florida
BEGIN:VEVENT
DTSTART;TZID=America/New_York:20250810T083000
DTEND;TZID=America/New_York:20250810T083000
DTSTAMP:20260425T033925
CREATED:20250713T232405Z
LAST-MODIFIED:20250713T233032Z
UID:36361-1754814600-1754814600@shivavishnu.org
SUMMARY:Gayatri Homam
DESCRIPTION:Gayathri Homam\n
URL:https://shivavishnu.org/event/gayatri-homam/
END:VEVENT
BEGIN:VEVENT
DTSTART;TZID=America/New_York:20250810T110000
DTEND;TZID=America/New_York:20250810T110000
DTSTAMP:20260425T033925
CREATED:20250713T232405Z
LAST-MODIFIED:20250713T232405Z
UID:36362-1754823600-1754823600@shivavishnu.org
SUMMARY:Lalitha Sahasranama Parayanam
DESCRIPTION:Satabisha \n
URL:https://shivavishnu.org/event/lalitha-sahasranama-parayanam-431/
END:VEVENT
END:VCALENDAR