BEGIN:VCALENDAR
VERSION:2.0
PRODID:-//Shiva Vishnu Temple of South Florida - ECPv4.6//NONSGML v1.0//EN
CALSCALE:GREGORIAN
METHOD:PUBLISH
X-WR-CALNAME:Shiva Vishnu Temple of South Florida
X-ORIGINAL-URL:https://shivavishnu.org
X-WR-CALDESC:Events for Shiva Vishnu Temple of South Florida
BEGIN:VEVENT
DTSTART;TZID=America/New_York:20250812T183000
DTEND;TZID=America/New_York:20250812T183000
DTSTAMP:20260425T033505
CREATED:20250713T232407Z
LAST-MODIFIED:20250713T232407Z
UID:36364-1755023400-1755023400@shivavishnu.org
SUMMARY:Abhishekam to Ganesha
DESCRIPTION:Uttarabhadra/Sankatahara Chathurthi \n
URL:https://shivavishnu.org/event/abhishekam-to-ganesha-152/
END:VEVENT
BEGIN:VEVENT
DTSTART;TZID=America/New_York:20250812T190000
DTEND;TZID=America/New_York:20250812T190000
DTSTAMP:20260425T033505
CREATED:20250713T232408Z
LAST-MODIFIED:20250713T232408Z
UID:36365-1755025200-1755025200@shivavishnu.org
SUMMARY:Hanuman Chalisa & Vadamala Seva
DESCRIPTION:Uttarabhadra \n
URL:https://shivavishnu.org/event/hanuman-chalisa-vadamala-seva-12/
END:VEVENT
END:VCALENDAR