BEGIN:VCALENDAR
VERSION:2.0
PRODID:-//Shiva Vishnu Temple of South Florida - ECPv4.6//NONSGML v1.0//EN
CALSCALE:GREGORIAN
METHOD:PUBLISH
X-WR-CALNAME:Shiva Vishnu Temple of South Florida
X-ORIGINAL-URL:https://shivavishnu.org
X-WR-CALDESC:Events for Shiva Vishnu Temple of South Florida
BEGIN:VEVENT
DTSTART;TZID=America/New_York:20250816T093000
DTEND;TZID=America/New_York:20250816T093000
DTSTAMP:20260425T033452
CREATED:20250713T232410Z
LAST-MODIFIED:20250713T232410Z
UID:36369-1755336600-1755336600@shivavishnu.org
SUMMARY:Thirumanjanam to Venkateshwara followed by  Vishnu Sahasranama Parayanam
DESCRIPTION:Krittika \n
URL:https://shivavishnu.org/event/thirumanjanam-to-venkateshwara-followed-by-vishnu-sahasranama-parayanam-19/
END:VEVENT
BEGIN:VEVENT
DTSTART;TZID=America/New_York:20250816T100000
DTEND;TZID=America/New_York:20250816T100000
DTSTAMP:20260425T033452
CREATED:20250713T232410Z
LAST-MODIFIED:20250713T232410Z
UID:36370-1755338400-1755338400@shivavishnu.org
SUMMARY:Abhishekam to Subramania
DESCRIPTION:Krittika \n
URL:https://shivavishnu.org/event/abhishekam-to-subramania-9/
END:VEVENT
END:VCALENDAR