BEGIN:VCALENDAR
VERSION:2.0
PRODID:-//Shiva Vishnu Temple of South Florida - ECPv4.6//NONSGML v1.0//EN
CALSCALE:GREGORIAN
METHOD:PUBLISH
X-WR-CALNAME:Shiva Vishnu Temple of South Florida
X-ORIGINAL-URL:https://shivavishnu.org
X-WR-CALDESC:Events for Shiva Vishnu Temple of South Florida
BEGIN:VEVENT
DTSTART;TZID=America/New_York:20250826T100000
DTEND;TZID=America/New_York:20250826T100000
DTSTAMP:20260425T034005
CREATED:20250713T232420Z
LAST-MODIFIED:20250713T233334Z
UID:36387-1756202400-1756202400@shivavishnu.org
SUMMARY:Ganesha Chathurthi
DESCRIPTION:Ganesha Chathurthi\n10:00 AM Abhishekam to Ganesha\nArchana\, Aarathi & Prasadam\n6:00 PM Prakarothsavam\,\nSahasranama Archana Aarathi & Prasadam\n
URL:https://shivavishnu.org/event/abhishekam-to-ganesha-153/
END:VEVENT
END:VCALENDAR