BEGIN:VCALENDAR
VERSION:2.0
PRODID:-//Shiva Vishnu Temple of South Florida - ECPv4.6//NONSGML v1.0//EN
CALSCALE:GREGORIAN
METHOD:PUBLISH
X-WR-CALNAME:Shiva Vishnu Temple of South Florida
X-ORIGINAL-URL:https://shivavishnu.org
X-WR-CALDESC:Events for Shiva Vishnu Temple of South Florida
BEGIN:VEVENT
DTSTART;TZID=America/New_York:20250831T083000
DTEND;TZID=America/New_York:20250831T083000
DTSTAMP:20260425T033133
CREATED:20250713T232424Z
LAST-MODIFIED:20250713T233511Z
UID:36394-1756629000-1756629000@shivavishnu.org
SUMMARY:Ganapathi Homam
DESCRIPTION:Ganapathi Homam\n
URL:https://shivavishnu.org/event/ganapathi-homam-11/
END:VEVENT
END:VCALENDAR