BEGIN:VCALENDAR
VERSION:2.0
PRODID:-//Shiva Vishnu Temple of South Florida - ECPv4.6//NONSGML v1.0//EN
CALSCALE:GREGORIAN
METHOD:PUBLISH
X-WR-CALNAME:Shiva Vishnu Temple of South Florida
X-ORIGINAL-URL:https://shivavishnu.org
X-WR-CALDESC:Events for Shiva Vishnu Temple of South Florida
BEGIN:VEVENT
DTSTART;TZID=America/New_York:20250902T100000
DTEND;TZID=America/New_York:20250902T100000
DTSTAMP:20260425T022602
CREATED:20250714T084012Z
LAST-MODIFIED:20250714T084012Z
UID:36414-1756807200-1756807200@shivavishnu.org
SUMMARY:Abhishekam to Saraswathi
DESCRIPTION:Moola \n
URL:https://shivavishnu.org/event/abhishekam-to-saraswathi-141/
END:VEVENT
BEGIN:VEVENT
DTSTART;TZID=America/New_York:20250902T100000
DTEND;TZID=America/New_York:20250902T100000
DTSTAMP:20260425T022602
CREATED:20250714T084012Z
LAST-MODIFIED:20250714T084012Z
UID:36415-1756807200-1756807200@shivavishnu.org
SUMMARY:Thirumanjanam to Anjaneya
DESCRIPTION:Moola \n
URL:https://shivavishnu.org/event/thirumanjanam-to-anjaneya-129/
END:VEVENT
BEGIN:VEVENT
DTSTART;TZID=America/New_York:20250902T190000
DTEND;TZID=America/New_York:20250902T190000
DTSTAMP:20260425T022602
CREATED:20250714T084012Z
LAST-MODIFIED:20250714T084012Z
UID:36416-1756839600-1756839600@shivavishnu.org
SUMMARY:Hanuman Chalisa
DESCRIPTION:Moola \n
URL:https://shivavishnu.org/event/hanuman-chalisa-362/
END:VEVENT
END:VCALENDAR