BEGIN:VCALENDAR
VERSION:2.0
PRODID:-//Shiva Vishnu Temple of South Florida - ECPv4.6//NONSGML v1.0//EN
CALSCALE:GREGORIAN
METHOD:PUBLISH
X-WR-CALNAME:Shiva Vishnu Temple of South Florida
X-ORIGINAL-URL:https://shivavishnu.org
X-WR-CALDESC:Events for Shiva Vishnu Temple of South Florida
BEGIN:VEVENT
DTSTART;TZID=America/New_York:20250908T183000
DTEND;TZID=America/New_York:20250908T183000
DTSTAMP:20260425T021638
CREATED:20250714T084018Z
LAST-MODIFIED:20250714T084515Z
UID:36424-1757356200-1757356200@shivavishnu.org
SUMMARY: Mahalaya Paksham begins
DESCRIPTION: Mahalaya Paksham begins\nAbhishekam to Shiva\n
URL:https://shivavishnu.org/event/abhishekam-to-shiva-759/
END:VEVENT
END:VCALENDAR