BEGIN:VCALENDAR
VERSION:2.0
PRODID:-//Shiva Vishnu Temple of South Florida - ECPv4.6//NONSGML v1.0//EN
CALSCALE:GREGORIAN
METHOD:PUBLISH
X-WR-CALNAME:Shiva Vishnu Temple of South Florida
X-ORIGINAL-URL:https://shivavishnu.org
X-WR-CALDESC:Events for Shiva Vishnu Temple of South Florida
BEGIN:VEVENT
DTSTART;TZID=America/New_York:20250913T093000
DTEND;TZID=America/New_York:20250913T093000
DTSTAMP:20260425T021648
CREATED:20250714T084021Z
LAST-MODIFIED:20250714T084021Z
UID:36430-1757755800-1757755800@shivavishnu.org
SUMMARY:Thirumanjanam to Venkateshwara followed by  Vishnu Sahasranama Parayanam
DESCRIPTION:Rohini/Sri Jayanthi \n
URL:https://shivavishnu.org/event/thirumanjanam-to-venkateshwara-followed-by-vishnu-sahasranama-parayanam-23/
END:VEVENT
BEGIN:VEVENT
DTSTART;TZID=America/New_York:20250913T173000
DTEND;TZID=America/New_York:20250913T173000
DTSTAMP:20260425T021648
CREATED:20250714T084021Z
LAST-MODIFIED:20250714T084301Z
UID:36431-1757784600-1757784600@shivavishnu.org
SUMMARY:Sri Jayanthi
DESCRIPTION:Sri Jayanthi\nThirumanjanam to Krishna\, Archana &Oonjal\n
URL:https://shivavishnu.org/event/thirumanjanam-to-krishna-archana-oonjal-2/
END:VEVENT
END:VCALENDAR