BEGIN:VCALENDAR
VERSION:2.0
PRODID:-//Shiva Vishnu Temple of South Florida - ECPv4.6//NONSGML v1.0//EN
CALSCALE:GREGORIAN
METHOD:PUBLISH
X-WR-CALNAME:Shiva Vishnu Temple of South Florida
X-ORIGINAL-URL:https://shivavishnu.org
X-WR-CALDESC:Events for Shiva Vishnu Temple of South Florida
BEGIN:VEVENT
DTSTART;TZID=America/New_York:20250916T093000
DTEND;TZID=America/New_York:20250916T093000
DTSTAMP:20260425T022502
CREATED:20250714T084025Z
LAST-MODIFIED:20250714T084642Z
UID:36436-1758015000-1758015000@shivavishnu.org
SUMMARY:Purattasi Celebrations begin
DESCRIPTION:Purattasi Celebrations begin\nThirumanjanam to Rama\n
URL:https://shivavishnu.org/event/thirumanjanam-to-rama-154/
END:VEVENT
BEGIN:VEVENT
DTSTART;TZID=America/New_York:20250916T190000
DTEND;TZID=America/New_York:20250916T190000
DTSTAMP:20260425T022502
CREATED:20250714T084025Z
LAST-MODIFIED:20250714T084025Z
UID:36437-1758049200-1758049200@shivavishnu.org
SUMMARY:Hanuman Chalisa
DESCRIPTION:Punarvasu \n
URL:https://shivavishnu.org/event/hanuman-chalisa-363/
END:VEVENT
END:VCALENDAR