BEGIN:VCALENDAR
VERSION:2.0
PRODID:-//Shiva Vishnu Temple of South Florida - ECPv4.6//NONSGML v1.0//EN
CALSCALE:GREGORIAN
METHOD:PUBLISH
X-WR-CALNAME:Shiva Vishnu Temple of South Florida
X-ORIGINAL-URL:https://shivavishnu.org
X-WR-CALDESC:Events for Shiva Vishnu Temple of South Florida
BEGIN:VEVENT
DTSTART;TZID=America/New_York:20250926T190000
DTEND;TZID=America/New_York:20250926T190000
DTSTAMP:20260425T021748
CREATED:20250714T084036Z
LAST-MODIFIED:20250714T084036Z
UID:36453-1758913200-1758913200@shivavishnu.org
SUMMARY:Lalitha Sahasranama Parayanam
DESCRIPTION:Visakha \n
URL:https://shivavishnu.org/event/lalitha-sahasranama-parayanam-441/
END:VEVENT
BEGIN:VEVENT
DTSTART;TZID=America/New_York:20250926T190000
DTEND;TZID=America/New_York:20250926T190000
DTSTAMP:20260425T021748
CREATED:20250714T084037Z
LAST-MODIFIED:20250714T084037Z
UID:36454-1758913200-1758913200@shivavishnu.org
SUMMARY:Special Pooja to Lakshmi
DESCRIPTION:Visakha \n
URL:https://shivavishnu.org/event/special-pooja-to-lakshmi-162/
END:VEVENT
END:VCALENDAR