BEGIN:VCALENDAR
VERSION:2.0
PRODID:-//Shiva Vishnu Temple of South Florida - ECPv4.6//NONSGML v1.0//EN
CALSCALE:GREGORIAN
METHOD:PUBLISH
X-WR-CALNAME:Shiva Vishnu Temple of South Florida
X-ORIGINAL-URL:https://shivavishnu.org
X-WR-CALDESC:Events for Shiva Vishnu Temple of South Florida
BEGIN:VEVENT
DTSTART;TZID=America/New_York:20250928T110000
DTEND;TZID=America/New_York:20250928T110000
DTSTAMP:20260425T021643
CREATED:20250714T084040Z
LAST-MODIFIED:20250714T084040Z
UID:36458-1759057200-1759057200@shivavishnu.org
SUMMARY:Lalitha Sahasranama Parayanam
DESCRIPTION:Jyeshta \n
URL:https://shivavishnu.org/event/lalitha-sahasranama-parayanam-443/
END:VEVENT
BEGIN:VEVENT
DTSTART;TZID=America/New_York:20250928T190000
DTEND;TZID=America/New_York:20250928T190000
DTSTAMP:20260425T021643
CREATED:20250714T084040Z
LAST-MODIFIED:20250714T084040Z
UID:36459-1759086000-1759086000@shivavishnu.org
SUMMARY:Lalitha Sahasranama Parayanam
DESCRIPTION:Jyeshta \n
URL:https://shivavishnu.org/event/lalitha-sahasranama-parayanam-444/
END:VEVENT
END:VCALENDAR