BEGIN:VCALENDAR
VERSION:2.0
PRODID:-//Shiva Vishnu Temple of South Florida - ECPv4.6//NONSGML v1.0//EN
CALSCALE:GREGORIAN
METHOD:PUBLISH
X-WR-CALNAME:Shiva Vishnu Temple of South Florida
X-ORIGINAL-URL:https://shivavishnu.org
X-WR-CALDESC:Events for Shiva Vishnu Temple of South Florida
BEGIN:VEVENT
DTSTART;TZID=America/New_York:20250929T093000
DTEND;TZID=America/New_York:20250929T093000
DTSTAMP:20260425T010046
CREATED:20250714T084041Z
LAST-MODIFIED:20250714T084041Z
UID:36460-1759138200-1759138200@shivavishnu.org
SUMMARY:Abhishekam to Saraswathl
DESCRIPTION:Moola/Durgashtami \n
URL:https://shivavishnu.org/event/abhishekam-to-saraswathl/
END:VEVENT
BEGIN:VEVENT
DTSTART;TZID=America/New_York:20250929T100000
DTEND;TZID=America/New_York:20250929T100000
DTSTAMP:20260425T010046
CREATED:20250714T084041Z
LAST-MODIFIED:20250714T084041Z
UID:36461-1759140000-1759140000@shivavishnu.org
SUMMARY:Thirumanjanam to Anjaneya
DESCRIPTION:Moola \n
URL:https://shivavishnu.org/event/thirumanjanam-to-anjaneya-130/
END:VEVENT
BEGIN:VEVENT
DTSTART;TZID=America/New_York:20250929T170000
DTEND;TZID=America/New_York:20250929T170000
DTSTAMP:20260425T010046
CREATED:20250714T084042Z
LAST-MODIFIED:20250714T084042Z
UID:36462-1759165200-1759165200@shivavishnu.org
SUMMARY:Abhishekam to Shiva
DESCRIPTION:Moola \n
URL:https://shivavishnu.org/event/abhishekam-to-shiva-763/
END:VEVENT
BEGIN:VEVENT
DTSTART;TZID=America/New_York:20250929T190000
DTEND;TZID=America/New_York:20250929T190000
DTSTAMP:20260425T010046
CREATED:20250714T084043Z
LAST-MODIFIED:20250714T084043Z
UID:36463-1759172400-1759172400@shivavishnu.org
SUMMARY:Lalitha Sahasranama Parayanam
DESCRIPTION:Moola \n
URL:https://shivavishnu.org/event/lalitha-sahasranama-parayanam-445/
END:VEVENT
END:VCALENDAR