BEGIN:VCALENDAR
VERSION:2.0
PRODID:-//Shiva Vishnu Temple of South Florida - ECPv4.6//NONSGML v1.0//EN
CALSCALE:GREGORIAN
METHOD:PUBLISH
X-WR-CALNAME:Shiva Vishnu Temple of South Florida
X-ORIGINAL-URL:https://shivavishnu.org
X-WR-CALDESC:Events for Shiva Vishnu Temple of South Florida
BEGIN:VEVENT
DTSTART;TZID=America/New_York:20251010T100000
DTEND;TZID=America/New_York:20251010T100000
DTSTAMP:20260425T010742
CREATED:20250930T214129Z
LAST-MODIFIED:20250930T214129Z
UID:36532-1760090400-1760090400@shivavishnu.org
SUMMARY:Pooja to Krishna
DESCRIPTION:Rohini \n
URL:https://shivavishnu.org/event/pooja-to-krishna/
END:VEVENT
BEGIN:VEVENT
DTSTART;TZID=America/New_York:20251010T190000
DTEND;TZID=America/New_York:20251010T190000
DTSTAMP:20260425T010742
CREATED:20250930T214129Z
LAST-MODIFIED:20250930T214129Z
UID:36533-1760122800-1760122800@shivavishnu.org
SUMMARY:Pooja to Lakshmi
DESCRIPTION:Rohini \n
URL:https://shivavishnu.org/event/pooja-to-lakshmi/
END:VEVENT
END:VCALENDAR