BEGIN:VCALENDAR
VERSION:2.0
PRODID:-//Shiva Vishnu Temple of South Florida - ECPv4.6//NONSGML v1.0//EN
CALSCALE:GREGORIAN
METHOD:PUBLISH
X-WR-CALNAME:Shiva Vishnu Temple of South Florida
X-ORIGINAL-URL:https://shivavishnu.org
X-WR-CALDESC:Events for Shiva Vishnu Temple of South Florida
BEGIN:VEVENT
DTSTART;TZID=America/New_York:20251028T190000
DTEND;TZID=America/New_York:20251028T190000
DTSTAMP:20260424T234617
CREATED:20250930T214140Z
LAST-MODIFIED:20250930T214140Z
UID:36565-1761678000-1761678000@shivavishnu.org
SUMMARY:Hanuman Chalisa
DESCRIPTION:Poorvasadha/ Uttarasadha \n
URL:https://shivavishnu.org/event/hanuman-chalisa-367/
END:VEVENT
END:VCALENDAR