BEGIN:VCALENDAR
VERSION:2.0
PRODID:-//Shiva Vishnu Temple of South Florida - ECPv4.6//NONSGML v1.0//EN
CALSCALE:GREGORIAN
METHOD:PUBLISH
X-WR-CALNAME:Shiva Vishnu Temple of South Florida
X-ORIGINAL-URL:https://shivavishnu.org
X-WR-CALDESC:Events for Shiva Vishnu Temple of South Florida
BEGIN:VEVENT
DTSTART;TZID=America/New_York:20251030T100000
DTEND;TZID=America/New_York:20251030T100000
DTSTAMP:20260424T234633
CREATED:20250930T214141Z
LAST-MODIFIED:20250930T214141Z
UID:36567-1761818400-1761818400@shivavishnu.org
SUMMARY:Special Pooja to Venkateshwara
DESCRIPTION:Sravana \n
URL:https://shivavishnu.org/event/special-pooja-to-venkateshwara-39/
END:VEVENT
END:VCALENDAR