BEGIN:VCALENDAR
VERSION:2.0
PRODID:-//Shiva Vishnu Temple of South Florida - ECPv4.6//NONSGML v1.0//EN
CALSCALE:GREGORIAN
METHOD:PUBLISH
X-WR-CALNAME:Shiva Vishnu Temple of South Florida
X-ORIGINAL-URL:https://shivavishnu.org
X-WR-CALDESC:Events for Shiva Vishnu Temple of South Florida
BEGIN:VEVENT
DTSTART;TZID=America/New_York:20251103T183000
DTEND;TZID=America/New_York:20251103T183000
DTSTAMP:20260425T010758
CREATED:20251001T002523Z
LAST-MODIFIED:20251001T002523Z
UID:36592-1762194600-1762194600@shivavishnu.org
SUMMARY:Pooja to Shiva
DESCRIPTION:Revati \n
URL:https://shivavishnu.org/event/pooja-to-shiva-8/
END:VEVENT
END:VCALENDAR