BEGIN:VCALENDAR
VERSION:2.0
PRODID:-//Shiva Vishnu Temple of South Florida - ECPv4.6//NONSGML v1.0//EN
CALSCALE:GREGORIAN
METHOD:PUBLISH
X-WR-CALNAME:Shiva Vishnu Temple of South Florida
X-ORIGINAL-URL:https://shivavishnu.org
X-WR-CALDESC:Events for Shiva Vishnu Temple of South Florida
BEGIN:VEVENT
DTSTART;VALUE=DATE:20251114
DTEND;VALUE=DATE:20251116
DTSTAMP:20260425T010750
CREATED:20250918T222808Z
LAST-MODIFIED:20250918T222901Z
UID:36514-1763078400-1763337599@shivavishnu.org
SUMMARY:3rd Samprokshanam/Kumbhabhishekam
DESCRIPTION:3rd Samprokshanam/Kumbhabhishekam & Silver Jubilee Celebrations\nNovember 14 to 16\, 2025\nDetails\n
URL:https://shivavishnu.org/event/3rd-samprokshanam-kumbhabhishekam/
END:VEVENT
BEGIN:VEVENT
DTSTART;TZID=America/New_York:20251116T100000
DTEND;TZID=America/New_York:20251116T100000
DTSTAMP:20260425T010750
CREATED:20251001T002531Z
LAST-MODIFIED:20251001T002531Z
UID:36610-1763287200-1763287200@shivavishnu.org
SUMMARY:See Samprokshanam/Kumbabhishekam Schedule
DESCRIPTION:Hasta/Samprokshanam/Kumbabhishekam \n
URL:https://shivavishnu.org/event/see-samprokshanam-kumbabhishekam-schedule-3/
END:VEVENT
END:VCALENDAR