BEGIN:VCALENDAR
VERSION:2.0
PRODID:-//Shiva Vishnu Temple of South Florida - ECPv4.6//NONSGML v1.0//EN
CALSCALE:GREGORIAN
METHOD:PUBLISH
X-WR-CALNAME:Shiva Vishnu Temple of South Florida
X-ORIGINAL-URL:https://shivavishnu.org
X-WR-CALDESC:Events for Shiva Vishnu Temple of South Florida
BEGIN:VEVENT
DTSTART;TZID=America/New_York:20251117T093000
DTEND;TZID=America/New_York:20251117T093000
DTSTAMP:20260424T235120
CREATED:20251001T002531Z
LAST-MODIFIED:20251001T002531Z
UID:36612-1763371800-1763371800@shivavishnu.org
SUMMARY:Thirumanjanam to Venkateshwara
DESCRIPTION:Chitra \n
URL:https://shivavishnu.org/event/thirumanjanam-to-venkateshwara-497/
END:VEVENT
BEGIN:VEVENT
DTSTART;TZID=America/New_York:20251117T100000
DTEND;TZID=America/New_York:20251117T100000
DTSTAMP:20260424T235120
CREATED:20251001T002531Z
LAST-MODIFIED:20251001T002640Z
UID:36611-1763373600-1763373600@shivavishnu.org
SUMMARY:Mandalabhishekam starts
DESCRIPTION:Mandalabhishekam starts\n
URL:https://shivavishnu.org/event/mandalabhishekam-starts/
END:VEVENT
BEGIN:VEVENT
DTSTART;TZID=America/New_York:20251117T183000
DTEND;TZID=America/New_York:20251117T183000
DTSTAMP:20260424T235120
CREATED:20251001T002533Z
LAST-MODIFIED:20251001T002533Z
UID:36613-1763404200-1763404200@shivavishnu.org
SUMMARY:Abhishekam to Shiva
DESCRIPTION:Chitra \n
URL:https://shivavishnu.org/event/abhishekam-to-shiva-764/
END:VEVENT
END:VCALENDAR