BEGIN:VCALENDAR
VERSION:2.0
PRODID:-//Shiva Vishnu Temple of South Florida - ECPv4.6//NONSGML v1.0//EN
CALSCALE:GREGORIAN
METHOD:PUBLISH
X-WR-CALNAME:Shiva Vishnu Temple of South Florida
X-ORIGINAL-URL:https://shivavishnu.org
X-WR-CALDESC:Events for Shiva Vishnu Temple of South Florida
BEGIN:VEVENT
DTSTART;TZID=America/New_York:20251120T093000
DTEND;TZID=America/New_York:20251120T093000
DTSTAMP:20260424T235206
CREATED:20251001T002538Z
LAST-MODIFIED:20251001T002538Z
UID:36619-1763631000-1763631000@shivavishnu.org
SUMMARY:Thirumanjanam to Venkateshwara
DESCRIPTION:Masa:Margashiram/Anuradha \n
URL:https://shivavishnu.org/event/thirumanjanam-to-venkateshwara-500/
END:VEVENT
BEGIN:VEVENT
DTSTART;TZID=America/New_York:20251120T100000
DTEND;TZID=America/New_York:20251120T100000
DTSTAMP:20260424T235206
CREATED:20251001T002539Z
LAST-MODIFIED:20251001T002539Z
UID:36620-1763632800-1763632800@shivavishnu.org
SUMMARY:Abhishekam to Shiva
DESCRIPTION:Anuradha \n
URL:https://shivavishnu.org/event/abhishekam-to-shiva-767/
END:VEVENT
END:VCALENDAR