BEGIN:VCALENDAR
VERSION:2.0
PRODID:-//Shiva Vishnu Temple of South Florida - ECPv4.6//NONSGML v1.0//EN
CALSCALE:GREGORIAN
METHOD:PUBLISH
X-WR-CALNAME:Shiva Vishnu Temple of South Florida
X-ORIGINAL-URL:https://shivavishnu.org
X-WR-CALDESC:Events for Shiva Vishnu Temple of South Florida
BEGIN:VEVENT
DTSTART;TZID=America/New_York:20251121T093000
DTEND;TZID=America/New_York:20251121T093000
DTSTAMP:20260424T234708
CREATED:20251001T002540Z
LAST-MODIFIED:20251001T002540Z
UID:36621-1763717400-1763717400@shivavishnu.org
SUMMARY:Thirumanjanam to Venkateshwara
DESCRIPTION:Jyeshta \n
URL:https://shivavishnu.org/event/thirumanjanam-to-venkateshwara-501/
END:VEVENT
BEGIN:VEVENT
DTSTART;TZID=America/New_York:20251121T100000
DTEND;TZID=America/New_York:20251121T100000
DTSTAMP:20260424T234708
CREATED:20251001T002541Z
LAST-MODIFIED:20251001T002541Z
UID:36622-1763719200-1763719200@shivavishnu.org
SUMMARY:Abhishekam to Shiva
DESCRIPTION:Jyeshta \n
URL:https://shivavishnu.org/event/abhishekam-to-shiva-768/
END:VEVENT
BEGIN:VEVENT
DTSTART;TZID=America/New_York:20251121T190000
DTEND;TZID=America/New_York:20251121T190000
DTSTAMP:20260424T234708
CREATED:20251001T002542Z
LAST-MODIFIED:20251001T002542Z
UID:36623-1763751600-1763751600@shivavishnu.org
SUMMARY:Pooja to Lakshmi
DESCRIPTION:Jyeshta \n
URL:https://shivavishnu.org/event/pooja-to-lakshmi-6/
END:VEVENT
END:VCALENDAR