BEGIN:VCALENDAR
VERSION:2.0
PRODID:-//Shiva Vishnu Temple of South Florida - ECPv4.6//NONSGML v1.0//EN
CALSCALE:GREGORIAN
METHOD:PUBLISH
X-WR-CALNAME:Shiva Vishnu Temple of South Florida
X-ORIGINAL-URL:https://shivavishnu.org
X-WR-CALDESC:Events for Shiva Vishnu Temple of South Florida
BEGIN:VEVENT
DTSTART;TZID=America/New_York:20251123T093000
DTEND;TZID=America/New_York:20251123T093000
DTSTAMP:20260424T234716
CREATED:20251001T002543Z
LAST-MODIFIED:20251001T002543Z
UID:36626-1763890200-1763890200@shivavishnu.org
SUMMARY:Thirumanjanam to Venkateshwara followed by Pooja to Anjaneya
DESCRIPTION:Moola \n
URL:https://shivavishnu.org/event/thirumanjanam-to-venkateshwara-followed-by-pooja-to-anjaneya/
END:VEVENT
BEGIN:VEVENT
DTSTART;TZID=America/New_York:20251123T100000
DTEND;TZID=America/New_York:20251123T100000
DTSTAMP:20260424T234716
CREATED:20251001T002544Z
LAST-MODIFIED:20251001T002544Z
UID:36627-1763892000-1763892000@shivavishnu.org
SUMMARY:Abhishekam to Shiva followed by Pooja to Saraswathi followed by  Lalitha Sahasranama parayanam
DESCRIPTION:Moola \n
URL:https://shivavishnu.org/event/abhishekam-to-shiva-followed-by-pooja-to-saraswathi-followed-by-lalitha-sahasranama-parayanam/
END:VEVENT
END:VCALENDAR