BEGIN:VCALENDAR
VERSION:2.0
PRODID:-//Shiva Vishnu Temple of South Florida - ECPv4.6//NONSGML v1.0//EN
CALSCALE:GREGORIAN
METHOD:PUBLISH
X-WR-CALNAME:Shiva Vishnu Temple of South Florida
X-ORIGINAL-URL:https://shivavishnu.org
X-WR-CALDESC:Events for Shiva Vishnu Temple of South Florida
BEGIN:VEVENT
DTSTART;TZID=America/New_York:20251125T093000
DTEND;TZID=America/New_York:20251125T093000
DTSTAMP:20260425T010754
CREATED:20251001T002546Z
LAST-MODIFIED:20251001T002546Z
UID:36630-1764063000-1764063000@shivavishnu.org
SUMMARY:Thirumanjanam to Venkateshwara
DESCRIPTION:Uttarasadha \n
URL:https://shivavishnu.org/event/thirumanjanam-to-venkateshwara-503/
END:VEVENT
BEGIN:VEVENT
DTSTART;TZID=America/New_York:20251125T100000
DTEND;TZID=America/New_York:20251125T100000
DTSTAMP:20260425T010754
CREATED:20251001T002546Z
LAST-MODIFIED:20251001T002546Z
UID:36631-1764064800-1764064800@shivavishnu.org
SUMMARY:Abhishekam to Shiva
DESCRIPTION:Uttarasadha \n
URL:https://shivavishnu.org/event/abhishekam-to-shiva-770/
END:VEVENT
BEGIN:VEVENT
DTSTART;TZID=America/New_York:20251125T190000
DTEND;TZID=America/New_York:20251125T190000
DTSTAMP:20260425T010754
CREATED:20251001T002547Z
LAST-MODIFIED:20251001T002547Z
UID:36632-1764097200-1764097200@shivavishnu.org
SUMMARY:Hanuman Chalisa
DESCRIPTION:Uttarasadha \n
URL:https://shivavishnu.org/event/hanuman-chalisa-371/
END:VEVENT
END:VCALENDAR