BEGIN:VCALENDAR
VERSION:2.0
PRODID:-//Shiva Vishnu Temple of South Florida - ECPv4.6//NONSGML v1.0//EN
CALSCALE:GREGORIAN
METHOD:PUBLISH
X-WR-CALNAME:Shiva Vishnu Temple of South Florida
X-ORIGINAL-URL:https://shivavishnu.org
X-WR-CALDESC:Events for Shiva Vishnu Temple of South Florida
BEGIN:VEVENT
DTSTART;TZID=America/New_York:20251128T093000
DTEND;TZID=America/New_York:20251128T093000
DTSTAMP:20260424T234631
CREATED:20251001T002551Z
LAST-MODIFIED:20251001T002551Z
UID:36637-1764322200-1764322200@shivavishnu.org
SUMMARY:Thirumanjanam to Venkateshwara
DESCRIPTION:Satabisha \n
URL:https://shivavishnu.org/event/thirumanjanam-to-venkateshwara-506/
END:VEVENT
BEGIN:VEVENT
DTSTART;TZID=America/New_York:20251128T100000
DTEND;TZID=America/New_York:20251128T100000
DTSTAMP:20260424T234631
CREATED:20251001T002552Z
LAST-MODIFIED:20251001T002552Z
UID:36638-1764324000-1764324000@shivavishnu.org
SUMMARY:Abhishekam to Shiva
DESCRIPTION:Satabisha \n
URL:https://shivavishnu.org/event/abhishekam-to-shiva-773/
END:VEVENT
BEGIN:VEVENT
DTSTART;TZID=America/New_York:20251128T190000
DTEND;TZID=America/New_York:20251128T190000
DTSTAMP:20260424T234631
CREATED:20251001T002553Z
LAST-MODIFIED:20251001T002553Z
UID:36639-1764356400-1764356400@shivavishnu.org
SUMMARY:Pooja to Lakshmi
DESCRIPTION:Satabisha \n
URL:https://shivavishnu.org/event/pooja-to-lakshmi-7/
END:VEVENT
END:VCALENDAR