BEGIN:VCALENDAR
VERSION:2.0
PRODID:-//Shiva Vishnu Temple of South Florida - ECPv4.6//NONSGML v1.0//EN
CALSCALE:GREGORIAN
METHOD:PUBLISH
X-WR-CALNAME:Shiva Vishnu Temple of South Florida
X-ORIGINAL-URL:https://shivavishnu.org
X-WR-CALDESC:Events for Shiva Vishnu Temple of South Florida
BEGIN:VEVENT
DTSTART;TZID=America/New_York:20251206T073000
DTEND;TZID=America/New_York:20251206T073000
DTSTAMP:20260424T223501
CREATED:20251001T004052Z
LAST-MODIFIED:20251001T004052Z
UID:36657-1765006200-1765006200@shivavishnu.org
SUMMARY:Surya Prabha & Chandara Prabha Vahanam
DESCRIPTION:Ardra/Vishnu Brahmotsavam \n
URL:https://shivavishnu.org/event/surya-prabha-chandara-prabha-vahanam-9/
END:VEVENT
BEGIN:VEVENT
DTSTART;TZID=America/New_York:20251206T073000
DTEND;TZID=America/New_York:20251206T073000
DTSTAMP:20260424T223501
CREATED:20251001T004053Z
LAST-MODIFIED:20251001T004053Z
UID:36658-1765006200-1765006200@shivavishnu.org
SUMMARY:Hamsa & Simha Vahanam
DESCRIPTION:Ardra \n
URL:https://shivavishnu.org/event/hamsa-simha-vahanam-7/
END:VEVENT
BEGIN:VEVENT
DTSTART;TZID=America/New_York:20251206T120000
DTEND;TZID=America/New_York:20251206T120000
DTSTAMP:20260424T223501
CREATED:20251001T004054Z
LAST-MODIFIED:20251001T004054Z
UID:36659-1765022400-1765022400@shivavishnu.org
SUMMARY:RATHOTSAVAM
DESCRIPTION:Ardra \n
URL:https://shivavishnu.org/event/rathotsavam-10/
END:VEVENT
BEGIN:VEVENT
DTSTART;TZID=America/New_York:20251206T183000
DTEND;TZID=America/New_York:20251206T183000
DTSTAMP:20260424T223501
CREATED:20251001T004054Z
LAST-MODIFIED:20251001T004054Z
UID:36660-1765045800-1765045800@shivavishnu.org
SUMMARY:Venkateshwara Padmavathi Kalyanotsavam
DESCRIPTION:Ardra \n
URL:https://shivavishnu.org/event/venkateshwara-padmavathi-kalyanotsavam-13/
END:VEVENT
BEGIN:VEVENT
DTSTART;TZID=America/New_York:20251206T183000
DTEND;TZID=America/New_York:20251206T183000
DTSTAMP:20260424T223501
CREATED:20251001T004054Z
LAST-MODIFIED:20251001T004054Z
UID:36661-1765045800-1765045800@shivavishnu.org
SUMMARY:Garuda Vahanam
DESCRIPTION:Ardra \n
URL:https://shivavishnu.org/event/garuda-vahanam-13/
END:VEVENT
END:VCALENDAR