BEGIN:VCALENDAR
VERSION:2.0
PRODID:-//Shiva Vishnu Temple of South Florida - ECPv4.6//NONSGML v1.0//EN
CALSCALE:GREGORIAN
METHOD:PUBLISH
X-WR-CALNAME:Shiva Vishnu Temple of South Florida
X-ORIGINAL-URL:https://shivavishnu.org
X-WR-CALDESC:Events for Shiva Vishnu Temple of South Florida
BEGIN:VEVENT
DTSTART;TZID=America/New_York:20251231T093000
DTEND;TZID=America/New_York:20251231T093000
DTSTAMP:20260424T213641
CREATED:20251001T004119Z
LAST-MODIFIED:20251001T004119Z
UID:36701-1767173400-1767173400@shivavishnu.org
SUMMARY:Abhishekam to Subramania
DESCRIPTION:Krittika/Pradosham \n
URL:https://shivavishnu.org/event/abhishekam-to-subramania-11/
END:VEVENT
BEGIN:VEVENT
DTSTART;TZID=America/New_York:20251231T183000
DTEND;TZID=America/New_York:20251231T183000
DTSTAMP:20260424T213641
CREATED:20251001T004120Z
LAST-MODIFIED:20251001T004120Z
UID:36702-1767205800-1767205800@shivavishnu.org
SUMMARY:Abhishekam to Shiva
DESCRIPTION:Krittika \n
URL:https://shivavishnu.org/event/abhishekam-to-shiva-781/
END:VEVENT
END:VCALENDAR