BEGIN:VCALENDAR
VERSION:2.0
PRODID:-//Shiva Vishnu Temple of South Florida - ECPv4.6//NONSGML v1.0//EN
CALSCALE:GREGORIAN
METHOD:PUBLISH
X-WR-CALNAME:Shiva Vishnu Temple of South Florida
X-ORIGINAL-URL:https://shivavishnu.org
X-WR-CALDESC:Events for Shiva Vishnu Temple of South Florida
BEGIN:VEVENT
DTSTART;VALUE=DATE:20260113
DTEND;VALUE=DATE:20260113
DTSTAMP:20260424T212731
CREATED:20251227T161017Z
LAST-MODIFIED:20260102T120650Z
UID:36753-1768262400-1768348799@shivavishnu.org
SUMMARY:Makara Sankaranthi/BOGHI
DESCRIPTION:Makara Sankaranthi/BOGHI\nEkadasi/Dhanurmasa puja ends\nDetails\n
URL:https://shivavishnu.org/event/36753/
END:VEVENT
BEGIN:VEVENT
DTSTART;TZID=America/New_York:20260113T173000
DTEND;TZID=America/New_York:20260113T173000
DTSTAMP:20260424T212731
CREATED:20251227T161018Z
LAST-MODIFIED:20260102T120717Z
UID:36754-1768325400-1768325400@shivavishnu.org
SUMMARY:ANDAL KALYANAM
DESCRIPTION:ANDAL KALYANAM/\nUttarayana Punyakalam\n  \n\nDetails\n
URL:https://shivavishnu.org/event/andal-kalyanam-12/
END:VEVENT
END:VCALENDAR