BEGIN:VCALENDAR
VERSION:2.0
PRODID:-//Shiva Vishnu Temple of South Florida - ECPv4.6//NONSGML v1.0//EN
CALSCALE:GREGORIAN
METHOD:PUBLISH
X-WR-CALNAME:Shiva Vishnu Temple of South Florida
X-ORIGINAL-URL:https://shivavishnu.org
X-WR-CALDESC:Events for Shiva Vishnu Temple of South Florida
BEGIN:VEVENT
DTSTART;TZID=America/New_York:20260125T100000
DTEND;TZID=America/New_York:20260125T100000
DTSTAMP:20260424T213226
CREATED:20251227T161027Z
LAST-MODIFIED:20260102T121027Z
UID:36769-1769335200-1769335200@shivavishnu.org
SUMMARY:Ratha Saptami
DESCRIPTION:Ratha Saptami\n/Abhishekam to Navagrahas\nDetails\n
URL:https://shivavishnu.org/event/abhishekam-to-navagrahas-153/
END:VEVENT
BEGIN:VEVENT
DTSTART;TZID=America/New_York:20260125T110000
DTEND;TZID=America/New_York:20260125T110000
DTSTAMP:20260424T213226
CREATED:20251227T161028Z
LAST-MODIFIED:20251227T161028Z
UID:36770-1769338800-1769338800@shivavishnu.org
SUMMARY:Lalitha Sahasranama Parayanam
DESCRIPTION:
URL:https://shivavishnu.org/event/lalitha-sahasranama-parayanam-456/
END:VEVENT
END:VCALENDAR