BEGIN:VCALENDAR
VERSION:2.0
PRODID:-//Shiva Vishnu Temple of South Florida - ECPv4.6//NONSGML v1.0//EN
CALSCALE:GREGORIAN
METHOD:PUBLISH
X-WR-CALNAME:Shiva Vishnu Temple of South Florida
X-ORIGINAL-URL:https://shivavishnu.org
X-WR-CALDESC:Events for Shiva Vishnu Temple of South Florida
BEGIN:VEVENT
DTSTART;TZID=America/New_York:20260215T110000
DTEND;TZID=America/New_York:20260215T110000
DTSTAMP:20260424T202843
CREATED:20251227T163422Z
LAST-MODIFIED:20251227T163422Z
UID:36823-1771153200-1771153200@shivavishnu.org
SUMMARY:Lalitha Sahasranama Parayanam
DESCRIPTION:Maha Sivaratri \n
URL:https://shivavishnu.org/event/lalitha-sahasranama-parayanam-458/
END:VEVENT
BEGIN:VEVENT
DTSTART;TZID=America/New_York:20260215T170000
DTEND;TZID=America/New_York:20260216T040000
DTSTAMP:20260424T202843
CREATED:20251227T163424Z
LAST-MODIFIED:20260102T121229Z
UID:36825-1771174800-1771214400@shivavishnu.org
SUMMARY:Maha Shivarathri
DESCRIPTION:Maha Shivarathri\nAbhishekam to Shiva (Chaturyama Pooja)\n  \nDetails\n
URL:https://shivavishnu.org/event/abhishekam-to-shiva-chaturyama-pooja-4/
END:VEVENT
END:VCALENDAR