BEGIN:VCALENDAR
VERSION:2.0
PRODID:-//Shiva Vishnu Temple of South Florida - ECPv4.6//NONSGML v1.0//EN
CALSCALE:GREGORIAN
METHOD:PUBLISH
X-WR-CALNAME:Shiva Vishnu Temple of South Florida
X-ORIGINAL-URL:https://shivavishnu.org
X-WR-CALDESC:Events for Shiva Vishnu Temple of South Florida
BEGIN:VEVENT
DTSTART;TZID=America/New_York:20260322T100000
DTEND;TZID=America/New_York:20260322T100000
DTSTAMP:20260424T193028
CREATED:20251227T214458Z
LAST-MODIFIED:20251227T214458Z
UID:36891-1774173600-1774173600@shivavishnu.org
SUMMARY:Abhishekam to Kamakshi
DESCRIPTION:Bharani \n
URL:https://shivavishnu.org/event/abhishekam-to-kamakshi-129/
END:VEVENT
BEGIN:VEVENT
DTSTART;TZID=America/New_York:20260322T110000
DTEND;TZID=America/New_York:20260322T110000
DTSTAMP:20260424T193028
CREATED:20251227T214458Z
LAST-MODIFIED:20251227T214458Z
UID:36892-1774177200-1774177200@shivavishnu.org
SUMMARY:Lalitha sahasranama Parayanam
DESCRIPTION:Bharani \n
URL:https://shivavishnu.org/event/lalitha-sahasranama-parayanam-461/
END:VEVENT
BEGIN:VEVENT
DTSTART;TZID=America/New_York:20260322T190000
DTEND;TZID=America/New_York:20260322T190000
DTSTAMP:20260424T193028
CREATED:20251227T214459Z
LAST-MODIFIED:20251227T214459Z
UID:36893-1774206000-1774206000@shivavishnu.org
SUMMARY:Ramayana Parayanam
DESCRIPTION:Bharani \n
URL:https://shivavishnu.org/event/ramayana-parayanam-88/
END:VEVENT
END:VCALENDAR